BEGIN:VCALENDAR
VERSION:2.0
PRODID:-//213.158.90.135//NONSGML kigkonsult.se iCalcreator 2.20//
CALSCALE:GREGORIAN
METHOD:PUBLISH
X-WR-TIMEZONE:Europe/Athens
BEGIN:VEVENT
UID:event421@ΜΥΓΔΟΝΙΑΚΟΣ Α.Ε.Σ.
DTSTAMP:20260425T140501Z
CATEGORIES:Τουρνουά Κ15 2025-2026
DESCRIPTION:ΜΥΓΔΟΝΙΑΚΟΣ -  ΑΚΑΔ. ΟΛΥΜΠΟΣ 2\nΚατηγορία: Τουρνουά Κ15 2025-20
 26\nLink: https://mygdoniakos.gr/index.php?option=com_jem&view=event&id=42
 1:mygdoniakos-akad-olympos-2\n
DTSTART;TZID=Europe/Athens:20260509T190000
DTEND;TZID=Europe/Athens:20260509T210000
LOCATION:ΔΓ Μυγδονίας 'Παν. Νέτσικας'\,Ανδρέα Παπανδρέου\,Δρυμός\,Greece
SUMMARY:ΜΥΓΔΟΝΙΑΚΟΣ -  ΑΚΑΔ. ΟΛΥΜΠΟΣ 2
URL:https://mygdoniakos.gr/index.php?option=com_jem&view=event&id=421:mygdo
 niakos-akad-olympos-2
END:VEVENT
BEGIN:VEVENT
UID:event422@ΜΥΓΔΟΝΙΑΚΟΣ Α.Ε.Σ.
DTSTAMP:20260425T140501Z
CATEGORIES:Τουρνουά Κ15 2025-2026
DESCRIPTION:ΜΥΓΔΟΝΙΑΚΟΣ -  ΑΣ ΛΑΓΚΑΔΑ\nΚατηγορία: Τουρνουά Κ15 2025-2026\nL
 ink: https://mygdoniakos.gr/index.php?option=com_jem&view=event&id=422:myg
 doniakos-as-lagkada\n
DTSTART;TZID=Europe/Athens:20260516T190000
DTEND;TZID=Europe/Athens:20260516T210000
LOCATION:ΔΓ Μυγδονίας 'Παν. Νέτσικας'\,Ανδρέα Παπανδρέου\,Δρυμός\,Greece
SUMMARY:ΜΥΓΔΟΝΙΑΚΟΣ -  ΑΣ ΛΑΓΚΑΔΑ
URL:https://mygdoniakos.gr/index.php?option=com_jem&view=event&id=422:mygdo
 niakos-as-lagkada
END:VEVENT
END:VCALENDAR
